BEGIN:VCALENDAR
VERSION:2.0
PRODID:-//wp-events-plugin.com//6.4.7.3//EN
TZID:America/Winnipeg
X-WR-TIMEZONE:America/Winnipeg
BEGIN:VEVENT
UID:456@iiwrmb.ca
DTSTART;TZID=America/Winnipeg:20210205T113000
DTEND;TZID=America/Winnipeg:20210205T130000
DTSTAMP:20210203T162314Z
URL:https://iiwrmb.ca/events/a-film-screening-of-digital-stories-about-fem
 ale-genital-cutting/
SUMMARY:A Film Screening of Digital Stories About Female Genital Cutting
DESCRIPTION:In honor of International Day of Zero Tolerance for Female Geni
 tal Mutilation\, Sahiyo in partnership with StoryCenter will host a film s
 creening from the Voices to End FGM/C digital storytelling collection
CATEGORIES:Community
END:VEVENT
BEGIN:VTIMEZONE
TZID:America/Winnipeg
X-LIC-LOCATION:America/Winnipeg
BEGIN:STANDARD
DTSTART:20201101T010000
TZOFFSETFROM:-0500
TZOFFSETTO:-0600
TZNAME:CST
END:STANDARD
END:VTIMEZONE
END:VCALENDAR