BEGIN:VCALENDAR
VERSION:2.0
PRODID:-//wp-events-plugin.com//6.4.7.3//EN
TZID:America/Winnipeg
X-WR-TIMEZONE:America/Winnipeg
BEGIN:VEVENT
UID:540@iiwrmb.ca
DTSTART;TZID=America/Winnipeg:20211021T140000
DTEND;TZID=America/Winnipeg:20211021T153000
DTSTAMP:20211020T211015Z
URL:https://iiwrmb.ca/events/a-new-chapter-in-afghanistan-ensuring-interna
 tional-cooperation-in-support-of-afghan-women-girls/
SUMMARY:A New Chapter in Afghanistan:  Ensuring International Cooperation i
 n Support of Afghan Women & Girls
DESCRIPTION:Join this urgent conversation on ensuring international coopera
 tion in response to the crisis in Afghanistan\, with specific attention to
  the plight of Afghan women and girls
CATEGORIES:UN/CSW
END:VEVENT
BEGIN:VTIMEZONE
TZID:America/Winnipeg
X-LIC-LOCATION:America/Winnipeg
BEGIN:DAYLIGHT
DTSTART:20210314T030000
TZOFFSETFROM:-0600
TZOFFSETTO:-0500
TZNAME:CDT
END:DAYLIGHT
END:VTIMEZONE
END:VCALENDAR