BEGIN:VCALENDAR
VERSION:2.0
PRODID:-//wp-events-plugin.com//6.4.7.3//EN
TZID:America/Winnipeg
X-WR-TIMEZONE:America/Winnipeg
BEGIN:VEVENT
UID:431@iiwrmb.ca
DTSTART;TZID=America/Winnipeg:20201211T070000
DTEND;TZID=America/Winnipeg:20201211T083000
DTSTAMP:20201202T172124Z
URL:https://iiwrmb.ca/events/addressing-conflict-related-sexual-slavery-th
 rough-the-women-peace-and-security-agenda/
SUMMARY:Addressing Conflict-Related Sexual Slavery through the Women\, Peac
 e\, and Security Agenda
DESCRIPTION:A Side Event to the 16 Days of Activism against Gender-Based Vi
 olence - Addressing Conflict-Related Sexual Slavery through the Women\, Pe
 ace\, and Security Agenda
CATEGORIES:16 Days
END:VEVENT
BEGIN:VTIMEZONE
TZID:America/Winnipeg
X-LIC-LOCATION:America/Winnipeg
BEGIN:STANDARD
DTSTART:20201101T010000
TZOFFSETFROM:-0500
TZOFFSETTO:-0600
TZNAME:CST
END:STANDARD
END:VTIMEZONE
END:VCALENDAR