BEGIN:VCALENDAR
VERSION:2.0
PRODID:-//wp-events-plugin.com//6.4.7.3//EN
TZID:America/Winnipeg
X-WR-TIMEZONE:America/Winnipeg
BEGIN:VEVENT
UID:395@iiwrmb.ca
DTSTART;TZID=America/Winnipeg:20201019T073000
DTEND;TZID=America/Winnipeg:20201019T090000
DTSTAMP:20201016T140648Z
URL:https://iiwrmb.ca/events/beijing-25-civil-society-virtual-townhall/
SUMMARY:Beijing+ 25 Civil Society Virtual Townhall
DESCRIPTION:Beijing+ 25 Civil Society Virtual Townhall. The event will be a
 n interactive dialogue between UN Women’s leadership and civil society a
 nd moderated by Ms. Lopa Banerjee\, Director of the Civil Society Division
  and Executive Coordinator of the Generation Equality Forum.
CATEGORIES:Community
END:VEVENT
BEGIN:VTIMEZONE
TZID:America/Winnipeg
X-LIC-LOCATION:America/Winnipeg
BEGIN:DAYLIGHT
DTSTART:20200308T030000
TZOFFSETFROM:-0600
TZOFFSETTO:-0500
TZNAME:CDT
END:DAYLIGHT
END:VTIMEZONE
END:VCALENDAR