BEGIN:VCALENDAR
VERSION:2.0
PRODID:-//wp-events-plugin.com//6.4.7.3//EN
TZID:America/Winnipeg
X-WR-TIMEZONE:America/Winnipeg
BEGIN:VEVENT
UID:552@iiwrmb.ca
DTSTART;TZID=America/Winnipeg:20211210T100000
DTEND;TZID=America/Winnipeg:20211210T110000
DTSTAMP:20211111T185944Z
URL:https://iiwrmb.ca/events/centering-the-rights-of-women-from-the-margin
 s/
SUMMARY:Centering the Rights of Women from the Margins
DESCRIPTION:Save the Date!
CATEGORIES:16 Days
END:VEVENT
BEGIN:VTIMEZONE
TZID:America/Winnipeg
X-LIC-LOCATION:America/Winnipeg
BEGIN:STANDARD
DTSTART:20211107T010000
TZOFFSETFROM:-0500
TZOFFSETTO:-0600
TZNAME:CST
END:STANDARD
END:VTIMEZONE
END:VCALENDAR