BEGIN:VCALENDAR
VERSION:2.0
PRODID:-//wp-events-plugin.com//6.4.7.3//EN
TZID:America/Winnipeg
X-WR-TIMEZONE:America/Winnipeg
BEGIN:VEVENT
UID:580@iiwrmb.ca
DTSTART;TZID=America/Winnipeg:20220224T080000
DTEND;TZID=America/Winnipeg:20220224T093000
DTSTAMP:20220203T182550Z
URL:https://iiwrmb.ca/events/commission-on-the-status-of-women-training/
SUMMARY:Commission on the Status of Women Training!
DESCRIPTION:Presentation by three civil society organizations in the UK.
CATEGORIES:UN/CSW
END:VEVENT
BEGIN:VTIMEZONE
TZID:America/Winnipeg
X-LIC-LOCATION:America/Winnipeg
BEGIN:STANDARD
DTSTART:20211107T010000
TZOFFSETFROM:-0500
TZOFFSETTO:-0600
TZNAME:CST
END:STANDARD
END:VTIMEZONE
END:VCALENDAR