BEGIN:VCALENDAR
VERSION:2.0
PRODID:-//wp-events-plugin.com//6.4.7.3//EN
TZID:America/Winnipeg
X-WR-TIMEZONE:America/Winnipeg
BEGIN:VEVENT
UID:549@iiwrmb.ca
DTSTART;TZID=America/Winnipeg:20211117T183000
DTEND;TZID=America/Winnipeg:20211117T203000
DTSTAMP:20211109T193053Z
URL:https://iiwrmb.ca/events/council-of-women-of-winnipeg-inc-meeting/
SUMMARY:Council of Women of Winnipeg Inc. Meeting
DESCRIPTION:about The Reweaving Support Project - a Participatory Action Re
 search project!
CATEGORIES:Community
LOCATION:Manitoba Possible\, Room 203\, 825 Sherbrook St.\, Winnipeg\, Mani
 toba\, Canada
GEO:49.903049;-97.156342
X-APPLE-STRUCTURED-LOCATION;VALUE=URI;X-ADDRESS=Room 203\, 825 Sherbrook St
 .\, Winnipeg\, Manitoba\, Canada;X-APPLE-RADIUS=100;X-TITLE=Manitoba Possi
 ble:geo:49.903049,-97.156342
END:VEVENT
BEGIN:VTIMEZONE
TZID:America/Winnipeg
X-LIC-LOCATION:America/Winnipeg
BEGIN:STANDARD
DTSTART:20211107T010000
TZOFFSETFROM:-0500
TZOFFSETTO:-0600
TZNAME:CST
END:STANDARD
END:VTIMEZONE
END:VCALENDAR