BEGIN:VCALENDAR
VERSION:2.0
PRODID:-//wp-events-plugin.com//6.4.7.3//EN
TZID:America/Winnipeg
X-WR-TIMEZONE:America/Winnipeg
BEGIN:VEVENT
UID:398@iiwrmb.ca
DTSTART;TZID=America/Winnipeg:20201021T080000
DTEND;TZID=America/Winnipeg:20201021T093000
DTSTAMP:20201019T165718Z
URL:https://iiwrmb.ca/events/database-launch-peacebuilding-in-a-pandemic/
SUMMARY:Database Launch - Peacebuilding in a Pandemic
DESCRIPTION:Database Launch - Peacebuilding in a Pandemic: Tracking the Imp
 act of COVID-19 on Women\, Peace and Security
CATEGORIES:Community
END:VEVENT
BEGIN:VTIMEZONE
TZID:America/Winnipeg
X-LIC-LOCATION:America/Winnipeg
BEGIN:DAYLIGHT
DTSTART:20200308T030000
TZOFFSETFROM:-0600
TZOFFSETTO:-0500
TZNAME:CDT
END:DAYLIGHT
END:VTIMEZONE
END:VCALENDAR