BEGIN:VCALENDAR
VERSION:2.0
PRODID:-//wp-events-plugin.com//6.4.7.3//EN
TZID:America/Winnipeg
X-WR-TIMEZONE:America/Winnipeg
BEGIN:VEVENT
UID:564@iiwrmb.ca
DTSTART;TZID=America/Winnipeg:20211206T173000
DTEND;TZID=America/Winnipeg:20211206T183000
DTSTAMP:20211126T162509Z
URL:https://iiwrmb.ca/events/december-6th-event-rally-on-the-national-day-
 of-remembrance-and-action-on-violence-against-women/
SUMMARY:Rally on the National Day of Remembrance and Action on Violence Aga
 inst Women
DESCRIPTION:Rally for December 6th\, to honour and remember those we have l
 ost to violence and act for change to end gender-based violence.
CATEGORIES:16 Days
LOCATION:Manitoba Legislature\, 450 Broadway\, Winnipeg\, Canada
GEO:49.8845846;-97.14692889999998
X-APPLE-STRUCTURED-LOCATION;VALUE=URI;X-ADDRESS=450 Broadway\, Winnipeg\, C
 anada;X-APPLE-RADIUS=100;X-TITLE=Manitoba Legislature:geo:49.8845846,-97.1
 4692889999998
END:VEVENT
BEGIN:VTIMEZONE
TZID:America/Winnipeg
X-LIC-LOCATION:America/Winnipeg
BEGIN:STANDARD
DTSTART:20211107T010000
TZOFFSETFROM:-0500
TZOFFSETTO:-0600
TZNAME:CST
END:STANDARD
END:VTIMEZONE
END:VCALENDAR