BEGIN:VCALENDAR
VERSION:2.0
PRODID:-//wp-events-plugin.com//6.4.7.3//EN
TZID:America/Winnipeg
X-WR-TIMEZONE:America/Winnipeg
BEGIN:VEVENT
UID:548@iiwrmb.ca
DTSTART;TZID=America/Winnipeg:20211116T110000
DTEND;TZID=America/Winnipeg:20211116T123000
DTSTAMP:20211108T162214Z
URL:https://iiwrmb.ca/events/educating-girls-in-war-zones/
SUMMARY:Educating Girls in War Zones
DESCRIPTION:A timely webinar on the challenge of educating girls in War Zon
 es (Afghanistan)
CATEGORIES:UN/CSW
END:VEVENT
BEGIN:VTIMEZONE
TZID:America/Winnipeg
X-LIC-LOCATION:America/Winnipeg
BEGIN:STANDARD
DTSTART:20211107T010000
TZOFFSETFROM:-0500
TZOFFSETTO:-0600
TZNAME:CST
END:STANDARD
END:VTIMEZONE
END:VCALENDAR