BEGIN:VCALENDAR
VERSION:2.0
PRODID:-//wp-events-plugin.com//6.4.7.3//EN
TZID:America/Winnipeg
X-WR-TIMEZONE:America/Winnipeg
BEGIN:VEVENT
UID:434@iiwrmb.ca
DTSTART;TZID=America/Winnipeg:20201210T080000
DTEND;TZID=America/Winnipeg:20201210T103000
DTSTAMP:20201206T150109Z
URL:https://iiwrmb.ca/events/equal-in-law-and-life-tribute-to-justice-ruth
 -bader-ginsburg/
SUMMARY:Equal in Law and Life: Tribute to Justice Ruth Bader Ginsburg
DESCRIPTION:The event will honor Justice Ruth Bader Ginsburg’s global leg
 acy of pursuing equality\, on International Human Rights Day (10 December)
  2020\, by convening an intergenerational group of women leaders and advoc
 ates for gender equality for to reflect on the transformative impact of he
 r work on equality in the law and in life.
ATTACH;FMTTYPE=image/jpeg:https://iiwrmb.ca/wp-content/uploads/2020/12/pos
 terRGB.png
CATEGORIES:16 Days
END:VEVENT
BEGIN:VTIMEZONE
TZID:America/Winnipeg
X-LIC-LOCATION:America/Winnipeg
BEGIN:STANDARD
DTSTART:20201101T010000
TZOFFSETFROM:-0500
TZOFFSETTO:-0600
TZNAME:CST
END:STANDARD
END:VTIMEZONE
END:VCALENDAR