BEGIN:VCALENDAR
VERSION:2.0
PRODID:-//wp-events-plugin.com//6.4.7.3//EN
TZID:America/Winnipeg
X-WR-TIMEZONE:America/Winnipeg
BEGIN:VEVENT
UID:432@iiwrmb.ca
DTSTART;TZID=America/Winnipeg:20201210T093000
DTEND;TZID=America/Winnipeg:20201210T110000
DTSTAMP:20201202T173026Z
URL:https://iiwrmb.ca/events/equality-its-all-in-the-family-film-screening
 -panel-discussion/
SUMMARY:Equality: It's All in the Family Film Screening & Panel Discussion
DESCRIPTION:On December 10\, to mark International Human Rights Day\, WLP w
 ill screen the documentary Equality: It’s All in the Family.
CATEGORIES:16 Days
END:VEVENT
BEGIN:VTIMEZONE
TZID:America/Winnipeg
X-LIC-LOCATION:America/Winnipeg
BEGIN:STANDARD
DTSTART:20201101T010000
TZOFFSETFROM:-0500
TZOFFSETTO:-0600
TZNAME:CST
END:STANDARD
END:VTIMEZONE
END:VCALENDAR