BEGIN:VCALENDAR
VERSION:2.0
PRODID:-//wp-events-plugin.com//6.4.7.3//EN
TZID:America/Winnipeg
X-WR-TIMEZONE:America/Winnipeg
BEGIN:VEVENT
UID:567@iiwrmb.ca
DTSTART;TZID=America/Winnipeg:20211208T120000
DTEND;TZID=America/Winnipeg:20211208T130000
DTSTAMP:20211207T152952Z
URL:https://iiwrmb.ca/events/expert-briefing-on-climate-and-gender/
SUMMARY:Expert Briefing on Climate and Gender
DESCRIPTION:An Expert Briefing on Climate and Gender - in preparation for t
 he upcoming meetings of the CSW.
CATEGORIES:UN/CSW
END:VEVENT
BEGIN:VTIMEZONE
TZID:America/Winnipeg
X-LIC-LOCATION:America/Winnipeg
BEGIN:STANDARD
DTSTART:20211107T010000
TZOFFSETFROM:-0500
TZOFFSETTO:-0600
TZNAME:CST
END:STANDARD
END:VTIMEZONE
END:VCALENDAR