BEGIN:VCALENDAR
VERSION:2.0
PRODID:-//wp-events-plugin.com//6.4.7.3//EN
TZID:America/Winnipeg
X-WR-TIMEZONE:America/Winnipeg
BEGIN:VEVENT
UID:518@iiwrmb.ca
DTSTART;TZID=America/Winnipeg:20210813T130000
DTEND;TZID=America/Winnipeg:20210813T140000
DTSTAMP:20210715T161031Z
URL:https://iiwrmb.ca/events/famous-5-foundation-pink-tea-conversation-wit
 h-hon-dr-vivienne-poy/
SUMMARY:Famous 5 Foundation Pink Tea Conversation with Hon. Dr. Vivienne Po
 y!
DESCRIPTION:Listen to this Famous 5 Foundation Pink Tea Conversation with H
 on. Dr. Vivienne Poy!
CATEGORIES:Community
END:VEVENT
BEGIN:VTIMEZONE
TZID:America/Winnipeg
X-LIC-LOCATION:America/Winnipeg
BEGIN:DAYLIGHT
DTSTART:20210314T030000
TZOFFSETFROM:-0600
TZOFFSETTO:-0500
TZNAME:CDT
END:DAYLIGHT
END:VTIMEZONE
END:VCALENDAR