BEGIN:VCALENDAR
VERSION:2.0
PRODID:-//wp-events-plugin.com//6.4.7.3//EN
TZID:America/Winnipeg
X-WR-TIMEZONE:America/Winnipeg
BEGIN:VEVENT
UID:483@iiwrmb.ca
DTSTART;TZID=America/Winnipeg:20210415T133000
DTEND;TZID=America/Winnipeg:20210415T143000
DTSTAMP:20210408T213635Z
URL:https://iiwrmb.ca/events/female-genital-mutilation-cutting/
SUMMARY:Female Genital Mutilation/Cutting
DESCRIPTION:Female Genital Mutilation/Cutting: An Under-Recognized Form of 
 Gender-Based Violence in the United States
CATEGORIES:Community
END:VEVENT
BEGIN:VTIMEZONE
TZID:America/Winnipeg
X-LIC-LOCATION:America/Winnipeg
BEGIN:DAYLIGHT
DTSTART:20210314T030000
TZOFFSETFROM:-0600
TZOFFSETTO:-0500
TZNAME:CDT
END:DAYLIGHT
END:VTIMEZONE
END:VCALENDAR