BEGIN:VCALENDAR
VERSION:2.0
PRODID:-//wp-events-plugin.com//6.4.7.3//EN
TZID:America/Winnipeg
X-WR-TIMEZONE:America/Winnipeg
BEGIN:VEVENT
UID:450@iiwrmb.ca
DTSTART;TZID=America/Winnipeg:20210126T110000
DTEND;TZID=America/Winnipeg:20210126T123000
DTSTAMP:20210125T190942Z
URL:https://iiwrmb.ca/events/feminist-forums-impact-of-covid-19-on-women-a
 nd-the-economy/
SUMMARY:Feminist Forums - Impact of COVID-19 on Women and the Economy
DESCRIPTION:Discussions will focus on the obstacles and opportunities that 
 COVID-19 has created for women in the economy and the impact of women in p
 ower and leadership on COVID-19 outcomes around the world.
CATEGORIES:UN/CSW
END:VEVENT
BEGIN:VTIMEZONE
TZID:America/Winnipeg
X-LIC-LOCATION:America/Winnipeg
BEGIN:STANDARD
DTSTART:20201101T010000
TZOFFSETFROM:-0500
TZOFFSETTO:-0600
TZNAME:CST
END:STANDARD
END:VTIMEZONE
END:VCALENDAR