BEGIN:VCALENDAR
VERSION:2.0
PRODID:-//wp-events-plugin.com//6.4.7.3//EN
TZID:America/Winnipeg
X-WR-TIMEZONE:America/Winnipeg
BEGIN:VEVENT
UID:419@iiwrmb.ca
DTSTART;TZID=America/Winnipeg:20201123T070000
DTEND;TZID=America/Winnipeg:20201123T083000
DTSTAMP:20201117T163855Z
URL:https://iiwrmb.ca/events/gender-equality-a-data-and-policy-dialogue/
SUMMARY:Gender Equality: a Data and Policy Dialogue
DESCRIPTION:Gender Equality: a Data and Policy Dialogue-  new data from the
  UN Secretary-General’s report The World’s Women 2020: Trends and Stat
 istics show that hard-earned gains in gender equality are being challenged
  by the COVID-19 pandemic.
CATEGORIES:Community
END:VEVENT
BEGIN:VTIMEZONE
TZID:America/Winnipeg
X-LIC-LOCATION:America/Winnipeg
BEGIN:STANDARD
DTSTART:20201101T010000
TZOFFSETFROM:-0500
TZOFFSETTO:-0600
TZNAME:CST
END:STANDARD
END:VTIMEZONE
END:VCALENDAR