BEGIN:VCALENDAR
VERSION:2.0
PRODID:-//wp-events-plugin.com//6.4.7.3//EN
TZID:America/Winnipeg
X-WR-TIMEZONE:America/Winnipeg
BEGIN:VEVENT
UID:487@iiwrmb.ca
DTSTART;TZID=America/Winnipeg:20210422T190000
DTEND;TZID=America/Winnipeg:20210422T204500
DTSTAMP:20210414T171935Z
URL:https://iiwrmb.ca/events/gender-equality-in-the-21st-century/
SUMMARY:Gender Equality in the 21st Century
DESCRIPTION:An open discussion on ethical questions regarding gender equity
  and identity.
CATEGORIES:Community
END:VEVENT
BEGIN:VTIMEZONE
TZID:America/Winnipeg
X-LIC-LOCATION:America/Winnipeg
BEGIN:DAYLIGHT
DTSTART:20210314T030000
TZOFFSETFROM:-0600
TZOFFSETTO:-0500
TZNAME:CDT
END:DAYLIGHT
END:VTIMEZONE
END:VCALENDAR