BEGIN:VCALENDAR
VERSION:2.0
PRODID:-//wp-events-plugin.com//6.4.7.3//EN
TZID:America/Winnipeg
X-WR-TIMEZONE:America/Winnipeg
BEGIN:VEVENT
UID:412@iiwrmb.ca
DTSTART;TZID=America/Winnipeg:20201125T090000
DTEND;TZID=America/Winnipeg:20201125T103000
DTSTAMP:20201124T152655Z
URL:https://iiwrmb.ca/events/international-day-for-the-elimination-of-viol
 ence-against-women/
SUMMARY:International Day for the Elimination of Violence against Women
DESCRIPTION:The UN Secretary-General’s UNiTE Campaign to End Violence aga
 inst Women is pleased to invite you to the United Nations Official Commemo
 ration of the International Day for the Elimination of Violence against Wo
 men. Watch: http://unwo.men/NT6z50CqGG0
ATTACH;FMTTYPE=image/jpeg:https://iiwrmb.ca/wp-content/uploads/2020/11/ora
 ngetheworld_event.png
CATEGORIES:16 Days
END:VEVENT
BEGIN:VTIMEZONE
TZID:America/Winnipeg
X-LIC-LOCATION:America/Winnipeg
BEGIN:STANDARD
DTSTART:20201101T010000
TZOFFSETFROM:-0500
TZOFFSETTO:-0600
TZNAME:CST
END:STANDARD
END:VTIMEZONE
END:VCALENDAR