BEGIN:VCALENDAR
VERSION:2.0
PRODID:-//wp-events-plugin.com//6.4.7.3//EN
TZID:America/Winnipeg
X-WR-TIMEZONE:America/Winnipeg
BEGIN:VEVENT
UID:415@iiwrmb.ca
DTSTART;TZID=America/Winnipeg:20201124T110000
DTEND;TZID=America/Winnipeg:20201124T110000
DTSTAMP:20201116T163525Z
URL:https://iiwrmb.ca/events/intimate-partner-violence/
SUMMARY:Intimate Partner Violence
DESCRIPTION:Intimate Partner Violence - by the Fort Garry Women's Resource 
 Centre
CATEGORIES:16 Days
END:VEVENT
BEGIN:VTIMEZONE
TZID:America/Winnipeg
X-LIC-LOCATION:America/Winnipeg
BEGIN:STANDARD
DTSTART:20201101T010000
TZOFFSETFROM:-0500
TZOFFSETTO:-0600
TZNAME:CST
END:STANDARD
END:VTIMEZONE
END:VCALENDAR