BEGIN:VCALENDAR
VERSION:2.0
PRODID:-//wp-events-plugin.com//6.4.7.3//EN
TZID:America/Winnipeg
X-WR-TIMEZONE:America/Winnipeg
BEGIN:VEVENT
UID:593@iiwrmb.ca
DTSTART;TZID=America/Winnipeg:20220225T120000
DTEND;TZID=America/Winnipeg:20220225T130000
DTSTAMP:20220217T223924Z
URL:https://iiwrmb.ca/events/lunch-and-learn-csw66/
SUMMARY:Lunch and Learn - CSW66
DESCRIPTION:An opportunity to hear about upcoming plans for the meeting of 
 the Commission on the Status of Women and how you can be involved!
ATTACH;FMTTYPE=image/jpeg:https://iiwrmb.ca/wp-content/uploads/2022/02/htt
 ps-_cdn.evbuc_.com_images_230051089_73494532529_1_original.20220215-033158
 .jpg
CATEGORIES:Community,IIWR-MB,UN/CSW
END:VEVENT
BEGIN:VTIMEZONE
TZID:America/Winnipeg
X-LIC-LOCATION:America/Winnipeg
BEGIN:STANDARD
DTSTART:20211107T010000
TZOFFSETFROM:-0500
TZOFFSETTO:-0600
TZNAME:CST
END:STANDARD
END:VTIMEZONE
END:VCALENDAR