BEGIN:VCALENDAR
VERSION:2.0
PRODID:-//wp-events-plugin.com//6.4.7.3//EN
TZID:America/Winnipeg
X-WR-TIMEZONE:America/Winnipeg
BEGIN:VEVENT
UID:430@iiwrmb.ca
DTSTART;TZID=America/Winnipeg:20201203T070000
DTEND;TZID=America/Winnipeg:20201203T083000
DTSTAMP:20201130T204846Z
URL:https://iiwrmb.ca/events/male-accountability-matters-to-build-back-bet
 ter-from-covid-19/
SUMMARY:Male accountability matters to build back better from COVID-19
DESCRIPTION:Building Back Better from COVID-19 - Male Accountability.
CATEGORIES:16 Days
END:VEVENT
BEGIN:VTIMEZONE
TZID:America/Winnipeg
X-LIC-LOCATION:America/Winnipeg
BEGIN:STANDARD
DTSTART:20201101T010000
TZOFFSETFROM:-0500
TZOFFSETTO:-0600
TZNAME:CST
END:STANDARD
END:VTIMEZONE
END:VCALENDAR