BEGIN:VCALENDAR
VERSION:2.0
PRODID:-//wp-events-plugin.com//6.4.7.3//EN
TZID:America/Winnipeg
X-WR-TIMEZONE:America/Winnipeg
BEGIN:VEVENT
UID:524@iiwrmb.ca
DTSTART;TZID=America/Winnipeg:20211004T071500
DTEND;TZID=America/Winnipeg:20211005T130000
DTSTAMP:20211001T175542Z
URL:https://iiwrmb.ca/events/manitoba-events-day-of-action-and-awareness-m
 miwg2s/
SUMMARY:Manitoba Events - Day of Action and Awareness MMIWG2S
DESCRIPTION:A number of events are occurring in Manitoba to honour the Miss
 ing and Murdered Indigenous Women\, Girls and Two-Spirited Peoples.
CATEGORIES:Community,IIWR-MB
END:VEVENT
BEGIN:VTIMEZONE
TZID:America/Winnipeg
X-LIC-LOCATION:America/Winnipeg
BEGIN:DAYLIGHT
DTSTART:20210314T030000
TZOFFSETFROM:-0600
TZOFFSETTO:-0500
TZNAME:CDT
END:DAYLIGHT
END:VTIMEZONE
END:VCALENDAR