BEGIN:VCALENDAR
VERSION:2.0
PRODID:-//wp-events-plugin.com//6.4.7.3//EN
TZID:America/Winnipeg
X-WR-TIMEZONE:America/Winnipeg
BEGIN:VEVENT
UID:581@iiwrmb.ca
DTSTART;TZID=America/Winnipeg;VALUE=DATE:20220314
DTEND;TZID=America/Winnipeg;VALUE=DATE:20220326
DTSTAMP:20220302T010032Z
URL:https://iiwrmb.ca/events/meetings-of-the-commission-on-the-status-of-w
 omen-2/
SUMMARY:Meetings of the Commission on the Status of Women
DESCRIPTION:Join IIWR.MB and attend the 66th meeting of the Commission on t
 he Status of Women.
ATTACH;FMTTYPE=image/jpeg:https://iiwrmb.ca/wp-content/uploads/2021/12/cli
 mate-change.jpg
CATEGORIES:UN/CSW
END:VEVENT
BEGIN:VTIMEZONE
TZID:America/Winnipeg
X-LIC-LOCATION:America/Winnipeg
BEGIN:DAYLIGHT
DTSTART:20220313T030000
TZOFFSETFROM:-0600
TZOFFSETTO:-0500
TZNAME:CDT
END:DAYLIGHT
END:VTIMEZONE
END:VCALENDAR