BEGIN:VCALENDAR
VERSION:2.0
PRODID:-//wp-events-plugin.com//6.4.7.3//EN
TZID:America/Winnipeg
X-WR-TIMEZONE:America/Winnipeg
BEGIN:VEVENT
UID:568@iiwrmb.ca
DTSTART;TZID=America/Winnipeg:20211209T093000
DTEND;TZID=America/Winnipeg:20211209T110000
DTSTAMP:20211207T222045Z
URL:https://iiwrmb.ca/events/missing-and-murdered-indigenous-women-girls-a
 nd-2slgbtqqia-people-in-canada-mmiwg2s-making-a-difference-now/
SUMMARY:Missing and Murdered Indigenous Women\, Girls and 2SLGBTQQIA+ Peopl
 e in Canada (MMIWG2S+) Making a Difference Now
DESCRIPTION:A panel discussion on how to make a difference in addressing th
 e tragedy of Missing and Murdered Indigenous Women and Girls and Two Spiri
 t\, lesbian\, gay\, transgender\, queer\, questioning\, intersex and asexu
 al people in Canada.
CATEGORIES:16 Days
END:VEVENT
BEGIN:VTIMEZONE
TZID:America/Winnipeg
X-LIC-LOCATION:America/Winnipeg
BEGIN:STANDARD
DTSTART:20211107T010000
TZOFFSETFROM:-0500
TZOFFSETTO:-0600
TZNAME:CST
END:STANDARD
END:VTIMEZONE
END:VCALENDAR