BEGIN:VCALENDAR
VERSION:2.0
PRODID:-//wp-events-plugin.com//6.4.7.3//EN
TZID:America/Winnipeg
X-WR-TIMEZONE:America/Winnipeg
BEGIN:VEVENT
UID:429@iiwrmb.ca
DTSTART;TZID=America/Winnipeg:20201126T120000
DTEND;TZID=America/Winnipeg:20201126T133000
DTSTAMP:20201125T231618Z
URL:https://iiwrmb.ca/events/past-due-a-national-action-plan-to-address-ge
 nder-based-violence-in-canada/
SUMMARY:Past Due – A National Action Plan to Address Gender-Based Violenc
 e in Canada
DESCRIPTION:A webinar to discuss a national action plan to end gender based
  violence in Canada
CATEGORIES:16 Days
END:VEVENT
BEGIN:VTIMEZONE
TZID:America/Winnipeg
X-LIC-LOCATION:America/Winnipeg
BEGIN:STANDARD
DTSTART:20201101T010000
TZOFFSETFROM:-0500
TZOFFSETTO:-0600
TZNAME:CST
END:STANDARD
END:VTIMEZONE
END:VCALENDAR