BEGIN:VCALENDAR
VERSION:2.0
PRODID:-//wp-events-plugin.com//6.4.7.3//EN
TZID:America/Winnipeg
X-WR-TIMEZONE:America/Winnipeg
BEGIN:VEVENT
UID:551@iiwrmb.ca
DTSTART;TZID=America/Winnipeg:20211210T120000
DTEND;TZID=America/Winnipeg:20211210T133000
DTSTAMP:20211111T184529Z
URL:https://iiwrmb.ca/events/protecting-children-from-domestic-violence-it
 -takes-the-whole-community/
SUMMARY:"Protecting Children from Domestic Violence: It Takes the Whole Com
 munity"
DESCRIPTION:A lecture by leading psychologist Peter Jaffe on protecting chi
 ldren from domestic violence. - It takes the whole community.
CATEGORIES:16 Days
END:VEVENT
BEGIN:VTIMEZONE
TZID:America/Winnipeg
X-LIC-LOCATION:America/Winnipeg
BEGIN:STANDARD
DTSTART:20211107T010000
TZOFFSETFROM:-0500
TZOFFSETTO:-0600
TZNAME:CST
END:STANDARD
END:VTIMEZONE
END:VCALENDAR