BEGIN:VCALENDAR
VERSION:2.0
PRODID:-//wp-events-plugin.com//6.4.7.3//EN
TZID:America/Winnipeg
X-WR-TIMEZONE:America/Winnipeg
BEGIN:VEVENT
UID:399@iiwrmb.ca
DTSTART;TZID=America/Winnipeg:20201106T130000
DTEND;TZID=America/Winnipeg:20201106T160000
DTSTAMP:20201019T170709Z
URL:https://iiwrmb.ca/events/responding-to-gender-based-violence-across-th
 e-prairies/
SUMMARY:Responding to Gender-Based Violence Across the Prairies
DESCRIPTION:Responding to Gender-Based Violence Across the Prairies - A Web
 inar
CATEGORIES:Community
END:VEVENT
BEGIN:VTIMEZONE
TZID:America/Winnipeg
X-LIC-LOCATION:America/Winnipeg
BEGIN:STANDARD
DTSTART:20201101T010000
TZOFFSETFROM:-0500
TZOFFSETTO:-0600
TZNAME:CST
END:STANDARD
END:VTIMEZONE
END:VCALENDAR