BEGIN:VCALENDAR
VERSION:2.0
PRODID:-//wp-events-plugin.com//6.4.7.3//EN
TZID:America/Winnipeg
X-WR-TIMEZONE:America/Winnipeg
BEGIN:VEVENT
UID:375@iiwrmb.ca
DTSTART;TZID=America/Winnipeg:20200922T000000
DTEND;TZID=America/Winnipeg:20200924T000000
DTSTAMP:20200908T172843Z
URL:https://iiwrmb.ca/events/sdg-sustainable-development-goals-action-zone
 /
SUMMARY:SDG (Sustainable Development Goals) Action Zone
DESCRIPTION:A virtual event - everyone everywhere is invited to attend to l
 ean and share ideas on the Sustainable Development Goals. Register early!
CATEGORIES:Community
END:VEVENT
BEGIN:VTIMEZONE
TZID:America/Winnipeg
X-LIC-LOCATION:America/Winnipeg
BEGIN:DAYLIGHT
DTSTART:20200308T030000
TZOFFSETFROM:-0600
TZOFFSETTO:-0500
TZNAME:CDT
END:DAYLIGHT
END:VTIMEZONE
END:VCALENDAR