BEGIN:VCALENDAR
VERSION:2.0
PRODID:-//wp-events-plugin.com//6.4.7.3//EN
TZID:America/Winnipeg
X-WR-TIMEZONE:America/Winnipeg
BEGIN:VEVENT
UID:418@iiwrmb.ca
DTSTART;TZID=America/Winnipeg:20201120T113000
DTEND;TZID=America/Winnipeg:20201120T130000
DTSTAMP:20201117T163302Z
URL:https://iiwrmb.ca/events/sex-industry-slavery-in-present-day-canada-pr
 otecting-canadas-youth/
SUMMARY:Sex Industry Slavery in Present-Day Canada: Protecting Canada’s Y
 outh
DESCRIPTION:A webinar: Sex Industry Slavery in Present-Day Canada: Protecti
 ng Canada’s Youth
CATEGORIES:Community
END:VEVENT
BEGIN:VTIMEZONE
TZID:America/Winnipeg
X-LIC-LOCATION:America/Winnipeg
BEGIN:STANDARD
DTSTART:20201101T010000
TZOFFSETFROM:-0500
TZOFFSETTO:-0600
TZNAME:CST
END:STANDARD
END:VTIMEZONE
END:VCALENDAR