BEGIN:VCALENDAR
VERSION:2.0
PRODID:-//wp-events-plugin.com//6.4.7.3//EN
TZID:America/Winnipeg
X-WR-TIMEZONE:America/Winnipeg
BEGIN:VEVENT
UID:565@iiwrmb.ca
DTSTART;TZID=America/Winnipeg:20211209T120000
DTEND;TZID=America/Winnipeg:20211209T130000
DTSTAMP:20211126T231225Z
URL:https://iiwrmb.ca/events/sexual-violence-on-campus/
SUMMARY:Sexual Violence on Campus
DESCRIPTION:Part of 16 Days of Activism Against Gender Based Violence\, a w
 ebinar on Progress & Gaps in Prevention and Response to Sexual Violence in
  Canadian Post-Secondary Settings
CATEGORIES:16 Days
END:VEVENT
BEGIN:VTIMEZONE
TZID:America/Winnipeg
X-LIC-LOCATION:America/Winnipeg
BEGIN:STANDARD
DTSTART:20211107T010000
TZOFFSETFROM:-0500
TZOFFSETTO:-0600
TZNAME:CST
END:STANDARD
END:VTIMEZONE
END:VCALENDAR