BEGIN:VCALENDAR
VERSION:2.0
PRODID:-//wp-events-plugin.com//6.4.7.3//EN
TZID:America/Winnipeg
X-WR-TIMEZONE:America/Winnipeg
BEGIN:VEVENT
UID:405@iiwrmb.ca
DTSTART;TZID=America/Winnipeg:20201027T133000
DTEND;TZID=America/Winnipeg:20201027T150000
DTSTAMP:20201024T140019Z
URL:https://iiwrmb.ca/events/the-legal-system-and-justice-for-indigenous-w
 omen-girls-and-2slgbtqqia-persons/
SUMMARY:The Legal System and Justice for Indigenous Women\, Girls\, and 2SL
 GBTQQIA Persons
DESCRIPTION:The second panel in the Gender Justice Now series will examine 
 the uses and limitations of the legal system in advancing the rights of In
 digenous women\, girls\, and 2SLGBTQQIA persons. It will feature Lynn Gehl
  (Writer and Artist)\, Beth Kotierk (Maliiganik Tukisiiniakvik)\, Naiomi M
 etallic (Schulich School of Law\, Dalhousie University)\, and Alana Robert
  (McCarthy Tétrault)\, with moderator Breanne Lavallée-Heckert (LEAF Nat
 ional).
CATEGORIES:Community
END:VEVENT
BEGIN:VTIMEZONE
TZID:America/Winnipeg
X-LIC-LOCATION:America/Winnipeg
BEGIN:DAYLIGHT
DTSTART:20200308T030000
TZOFFSETFROM:-0600
TZOFFSETTO:-0500
TZNAME:CDT
END:DAYLIGHT
END:VTIMEZONE
END:VCALENDAR