BEGIN:VCALENDAR
VERSION:2.0
PRODID:-//wp-events-plugin.com//6.4.7.3//EN
TZID:America/Winnipeg
X-WR-TIMEZONE:America/Winnipeg
BEGIN:VEVENT
UID:400@iiwrmb.ca
DTSTART;TZID=America/Winnipeg:20201027T183000
DTEND;TZID=America/Winnipeg:20201027T194500
DTSTAMP:20201020T163849Z
URL:https://iiwrmb.ca/events/the-past-present-and-future-womens-role-in-ad
 vancing-peace-in-korea/
SUMMARY:The Past\, Present and Future: Women’s Role in Advancing Peace in
  Korea
DESCRIPTION:The Past\, Present and Future: Women’s Role in Advancing Peac
 e in Korea. October marks the 20th anniversary of the historic passage of 
 UNSCR 1325\, which set forth a framework mandating women’s meaningful in
 clusion in peace processes.
CATEGORIES:Community
END:VEVENT
BEGIN:VTIMEZONE
TZID:America/Winnipeg
X-LIC-LOCATION:America/Winnipeg
BEGIN:DAYLIGHT
DTSTART:20200308T030000
TZOFFSETFROM:-0600
TZOFFSETTO:-0500
TZNAME:CDT
END:DAYLIGHT
END:VTIMEZONE
END:VCALENDAR