BEGIN:VCALENDAR
VERSION:2.0
PRODID:-//wp-events-plugin.com//6.4.7.3//EN
TZID:America/Winnipeg
X-WR-TIMEZONE:America/Winnipeg
BEGIN:VEVENT
UID:484@iiwrmb.ca
DTSTART;TZID=America/Winnipeg:20210422T110000
DTEND;TZID=America/Winnipeg:20210422T120000
DTSTAMP:20210409T144737Z
URL:https://iiwrmb.ca/events/unpacking-the-federal-canadian-budget-2021/
SUMMARY:Unpacking the Federal (Canadian) Budget 2021
DESCRIPTION:YMCA Canada and YWCA Canada are coming together to crunch the n
 umbers and unpack the Federal Budget!
CATEGORIES:Community
END:VEVENT
BEGIN:VTIMEZONE
TZID:America/Winnipeg
X-LIC-LOCATION:America/Winnipeg
BEGIN:DAYLIGHT
DTSTART:20210314T030000
TZOFFSETFROM:-0600
TZOFFSETTO:-0500
TZNAME:CDT
END:DAYLIGHT
END:VTIMEZONE
END:VCALENDAR