BEGIN:VCALENDAR
VERSION:2.0
PRODID:-//wp-events-plugin.com//6.4.7.3//EN
TZID:America/Winnipeg
X-WR-TIMEZONE:America/Winnipeg
BEGIN:VEVENT
UID:417@iiwrmb.ca
DTSTART;TZID=America/Winnipeg:20201130T110000
DTEND;TZID=America/Winnipeg:20201130T123000
DTSTAMP:20201117T162556Z
URL:https://iiwrmb.ca/events/virtual-film-screening-nasrin/
SUMMARY:Virtual Film Screening: NASRIN
DESCRIPTION:Nobel Women's Initiative is joining with the filmmakers of NASR
 IN to bring you a virtual\, online screening of the newly released documen
 tary about the life and work of Nasrin Sotoudeh\, Iranian human rights def
 ender.
CATEGORIES:16 Days
END:VEVENT
BEGIN:VTIMEZONE
TZID:America/Winnipeg
X-LIC-LOCATION:America/Winnipeg
BEGIN:STANDARD
DTSTART:20201101T010000
TZOFFSETFROM:-0500
TZOFFSETTO:-0600
TZNAME:CST
END:STANDARD
END:VTIMEZONE
END:VCALENDAR