BEGIN:VCALENDAR
VERSION:2.0
PRODID:-//wp-events-plugin.com//6.4.7.3//EN
TZID:America/Winnipeg
X-WR-TIMEZONE:America/Winnipeg
BEGIN:VEVENT
UID:481@iiwrmb.ca
DTSTART;TZID=America/Winnipeg:20210414T110000
DTEND;TZID=America/Winnipeg:20210414T120000
DTSTAMP:20210407T152917Z
URL:https://iiwrmb.ca/events/women-in-sports-global-champions/
SUMMARY:Women in Sports: Global Champions
DESCRIPTION:Join us for a special virtual conversation that explores the ma
 ny accomplishments of women in the world of sports.
CATEGORIES:Community
END:VEVENT
BEGIN:VTIMEZONE
TZID:America/Winnipeg
X-LIC-LOCATION:America/Winnipeg
BEGIN:DAYLIGHT
DTSTART:20210314T030000
TZOFFSETFROM:-0600
TZOFFSETTO:-0500
TZNAME:CDT
END:DAYLIGHT
END:VTIMEZONE
END:VCALENDAR