BEGIN:VCALENDAR
VERSION:2.0
PRODID:-//wp-events-plugin.com//6.4.7.3//EN
TZID:America/Winnipeg
X-WR-TIMEZONE:America/Winnipeg
BEGIN:VEVENT
UID:498@iiwrmb.ca
DTSTART;TZID=America/Winnipeg:20210604T130000
DTEND;TZID=America/Winnipeg:20210604T150000
DTSTAMP:20210515T140015Z
URL:https://iiwrmb.ca/events/your-voice-has-power/
SUMMARY:Your Voice has Power!
DESCRIPTION:Part of the Pink Tea series of the Famous Five Foundation\,  Na
 ncy Ruth\, former Senator\, will be the speaker.
CATEGORIES:Community
END:VEVENT
BEGIN:VTIMEZONE
TZID:America/Winnipeg
X-LIC-LOCATION:America/Winnipeg
BEGIN:DAYLIGHT
DTSTART:20210314T030000
TZOFFSETFROM:-0600
TZOFFSETTO:-0500
TZNAME:CDT
END:DAYLIGHT
END:VTIMEZONE
END:VCALENDAR